OziExplorer Map Data File Version 2.2
Eon4wd 2021 EON-AUD-11
EON-AUD-11.ozf4
1 ,Map Code,
WGS 84,WGS 84, 0.0000, 0.0000,WGS 84
Reserved 1
Reserved 2
Magnetic Variation,,,E
Map Projection,Mercator,PolyCal,No,AutoCalOnly,No,BSBUseWPX,No
Point01,xy, 0, 0,in, deg, 10, 18.895157, S, 111, 26.718750, E, grid, , , ,N
Point02,xy, 61951, 0,in, deg, 10, 18.895157, S, 153, 59.021301, E, grid, , , ,N
Point03,xy, 61951, 56063,in, deg, 43, 50.041888, S, 153, 59.021301, E, grid, , , ,N
Point04,xy, 0, 56063,in, deg, 43, 50.041888, S, 111, 26.718750, E, grid, , , ,N
Point05,xy, , ,in, deg, , , grid, , , ,N
Point06,xy, , ,in, deg, , , grid, , , ,N
Point07,xy, , ,in, deg, , , grid, , , ,N
Point08,xy, , ,in, deg, , , grid, , , ,N
Point09,xy, , ,in, deg, , , grid, , , ,N
Point10,xy, , ,in, deg, , , grid, , , ,N
Point11,xy, , ,in, deg, , , grid, , , ,N
Point12,xy, , ,in, deg, , , grid, , , ,N
Point13,xy, , ,in, deg, , , grid, , , ,N
Point14,xy, , ,in, deg, , , grid, , , ,N
Point15,xy, , ,in, deg, , , grid, , , ,N
Point16,xy, , ,in, deg, , , grid, , , ,N
Point17,xy, , ,in, deg, , , grid, , , ,N
Point18,xy, , ,in, deg, , , grid, , , ,N
Point19,xy, , ,in, deg, , , grid, , , ,N
Point20,xy, , ,in, deg, , , grid, , , ,N
Point21,xy, , ,in, deg, , , grid, , , ,N
Point22,xy, , ,in, deg, , , grid, , , ,N
Point23,xy, , ,in, deg, , , grid, , , ,N
Point24,xy, , ,in, deg, , , grid, , , ,N
Point25,xy, , ,in, deg, , , grid, , , ,N
Point26,xy, , ,in, deg, , , grid, , , ,N
Point27,xy, , ,in, deg, , , grid, , , ,N
Point28,xy, , ,in, deg, , , grid, , , ,N
Point29,xy, , ,in, deg, , , grid, , , ,N
Point30,xy, , ,in, deg, , , grid, , , ,N
Projection Setup,,,,,,,,,,
Map Feature = MF ; Map Comment = MC These follow if they exist
Track File = TF These follow if they exist
Moving Map Parameters = MM? These follow if they exist
MM0,Yes
MMPNUM,4
MMPXY, 1, 0, 0
MMPXY, 2, 61951, 0
MMPXY, 3, 61951, 56063
MMPXY, 4, 0, 56063
MMPLL, 1, 111.445313, -10.314919
MMPLL, 2, 153.983688, -10.314919
MMPLL, 3, 153.983688, -43.834031
MMPLL, 4, 111.445313, -43.834031
MOP,Map Open Position,0,0
MM1B, 68.288569
IWH,Map Image Width/Height, 61952, 56064
MLP,Map Last Position,-37.4168866,141.4022827,100
